BEGIN:VCALENDAR
VERSION:2.0
PRODID:-//Acorn - ECPv6.15.20//NONSGML v1.0//EN
CALSCALE:GREGORIAN
METHOD:PUBLISH
X-ORIGINAL-URL:https://acornlibrary.org
X-WR-CALDESC:Events for Acorn
REFRESH-INTERVAL;VALUE=DURATION:PT1H
X-Robots-Tag:noindex
X-PUBLISHED-TTL:PT1H
BEGIN:VTIMEZONE
TZID:America/Chicago
BEGIN:DAYLIGHT
TZOFFSETFROM:-0600
TZOFFSETTO:-0500
TZNAME:CDT
DTSTART:20240310T080000
END:DAYLIGHT
BEGIN:STANDARD
TZOFFSETFROM:-0500
TZOFFSETTO:-0600
TZNAME:CST
DTSTART:20241103T070000
END:STANDARD
BEGIN:DAYLIGHT
TZOFFSETFROM:-0600
TZOFFSETTO:-0500
TZNAME:CDT
DTSTART:20250309T080000
END:DAYLIGHT
BEGIN:STANDARD
TZOFFSETFROM:-0500
TZOFFSETTO:-0600
TZNAME:CST
DTSTART:20251102T070000
END:STANDARD
BEGIN:DAYLIGHT
TZOFFSETFROM:-0600
TZOFFSETTO:-0500
TZNAME:CDT
DTSTART:20260308T080000
END:DAYLIGHT
BEGIN:STANDARD
TZOFFSETFROM:-0500
TZOFFSETTO:-0600
TZNAME:CST
DTSTART:20261101T070000
END:STANDARD
END:VTIMEZONE
BEGIN:VEVENT
DTSTART;TZID=America/Chicago:20250106T080000
DTEND;TZID=America/Chicago:20250228T170000
DTSTAMP:20260421T031851
CREATED:20241023T224915Z
LAST-MODIFIED:20241023T224915Z
UID:18210-1736150400-1740762000@acornlibrary.org
SUMMARY:Book Genre Bingo
DESCRIPTION:Stop by the Adult Services desk to receive a bingo card with different genres to read! When you get a bingo\, bring your card back to the Adult Services desk to receive a raffle ticket for a prize!
URL:https://acornlibrary.org/calendar/book-genre-bingo/
CATEGORIES:Events for Adults
ORGANIZER;CN="Kortni Springer":MAILTO:kspringer@acornlibrary.org
END:VEVENT
BEGIN:VEVENT
DTSTART;TZID=America/Chicago:20250112T180000
DTEND;TZID=America/Chicago:20251212T180000
DTSTAMP:20260421T031851
CREATED:20251125T201001Z
LAST-MODIFIED:20251125T201001Z
UID:23614-1736704800-1765562400@acornlibrary.org
SUMMARY:Hungry Bookworms
DESCRIPTION:Read food-themed books and enjoy tasty treats.  Ages 6-9.  To register\, email youthprograms@acornlibrary.org or call 708-687-3700. \nAny individual requiring special accommodations as specified by the Americans with Disabilities Act is required to notify the staff at least 24 hours in advance of the meeting date.  Please call 708-687-3700.
URL:https://acornlibrary.org/calendar/hungry-bookworms-2/
LOCATION:Acorn Public Library District
CATEGORIES:Events for Kids
ATTACH;FMTTYPE=image/jpeg:https://acornlibrary.org/wp-content/uploads/2025/07/hungry-bookworm.jpg
END:VEVENT
BEGIN:VEVENT
DTSTART;TZID=America/Chicago:20250201T080000
DTEND;TZID=America/Chicago:20250228T170000
DTSTAMP:20260421T031851
CREATED:20250107T163038Z
LAST-MODIFIED:20250107T163038Z
UID:19164-1738396800-1740762000@acornlibrary.org
SUMMARY:Kids Craft Kit-Bumble Bee Heart
DESCRIPTION:Make an adorable bumble bee craft for Valentine’s Day!  Kits available starting Feb. 1.  To request a kit\, call the Youth Services Department or email jmarquardt@acornlibrary.org.
URL:https://acornlibrary.org/calendar/kids-craft-kit-bumble-bee-heart/
CATEGORIES:Events for Kids
ATTACH;FMTTYPE=image/jpeg:https://acornlibrary.org/wp-content/uploads/2025/01/Bumble-Bee-Heart-Craft-2.jpg
END:VEVENT
BEGIN:VEVENT
DTSTART;TZID=America/Chicago:20250219T190000
DTEND;TZID=America/Chicago:20250219T200000
DTSTAMP:20260421T031851
CREATED:20241023T225739Z
LAST-MODIFIED:20241023T225739Z
UID:18250-1739991600-1739995200@acornlibrary.org
SUMMARY:Slowing Down with Amy Tan
DESCRIPTION:Join us in conversation with Amy Tan! This event is made possible by Illinois Libraries Present\, a statewide collaboration among public libraries offering premier events. To register\, please call the library at 708-687-3700 or email kspringer@acornlibrary.org.
URL:https://acornlibrary.org/calendar/slowing-down-with-amy-tan/
LOCATION:Zoom
CATEGORIES:Events for Adults
ORGANIZER;CN="Kortni Springer":MAILTO:kspringer@acornlibrary.org
END:VEVENT
BEGIN:VEVENT
DTSTART;TZID=America/Chicago:20250219T190000
DTEND;TZID=America/Chicago:20250219T200000
DTSTAMP:20260421T031851
CREATED:20241023T225911Z
LAST-MODIFIED:20241023T225911Z
UID:18254-1739991600-1739995200@acornlibrary.org
SUMMARY:Kiddieland Remembered
DESCRIPTION:From 1929 to 2009\, Kiddieland in Melrose Park was Chicago’s favorite and one of the last family owned amusement parks in the country. Join us for a fun presentation that will take you back in time. Relive the past with Cheryl Brown\, as she revisits the history of the park with vintage photos. Re-experience the park through videos of the park on a busy summer day. Learn about the final auction of the rides\, why the park had to close\, and where the rides are today. You can attend this program virtually or in person. To register\, please call the library at 708-687-3700 or email kspringer@acornlibrary.org.
URL:https://acornlibrary.org/calendar/kiddieland-remembered/
LOCATION:Meeting Room
CATEGORIES:Events for Adults
ORGANIZER;CN="Kortni Springer":MAILTO:kspringer@acornlibrary.org
END:VEVENT
BEGIN:VEVENT
DTSTART;TZID=America/Chicago:20250220T093000
DTEND;TZID=America/Chicago:20250220T103000
DTSTAMP:20260421T031851
CREATED:20241216T222632Z
LAST-MODIFIED:20241216T222632Z
UID:18977-1740043800-1740047400@acornlibrary.org
SUMMARY:Lapsit and Playtime
DESCRIPTION:Join us for our story time for our youngest patrons!  Ideal for babies and toddlers\, this story time features lots of singing\, rhyming\, reading and playing! The Winter Session runs from Thursday\, Jan. 16-Feb. 27.  To register\, call the Youth Services Desk at 708-687-3700 or email jmarquardt@acornlibrary.org.
URL:https://acornlibrary.org/calendar/lapsit-and-playtime-4/2025-02-20/
CATEGORIES:Events for Kids
ATTACH;FMTTYPE=image/jpeg:https://acornlibrary.org/wp-content/uploads/2020/07/storytimea.jpg
END:VEVENT
BEGIN:VEVENT
DTSTART;TZID=America/Chicago:20250220T110000
DTEND;TZID=America/Chicago:20250220T113000
DTSTAMP:20260421T031851
CREATED:20241216T223021Z
LAST-MODIFIED:20241216T223021Z
UID:18987-1740049200-1740051000@acornlibrary.org
SUMMARY:3-5 Yr Old Story Time
DESCRIPTION:Join us for stories\, songs\, rhymes\, and a craft!  Ideal for children ages 3-5. The Winter Session runs from Thursday\, Jan. 16-Feb. 27.  To register\, call the Youth Services Desk at 708-687-3700 or email jmarquardt@acornlibrary.org.
URL:https://acornlibrary.org/calendar/3-5-yr-old-story-time-15/2025-02-20/
LOCATION:Acorn Public Library District
CATEGORIES:Events for Kids
ATTACH;FMTTYPE=image/jpeg:https://acornlibrary.org/wp-content/uploads/2021/09/storytime-bookworm-1170x583-1.jpeg
END:VEVENT
BEGIN:VEVENT
DTSTART;TZID=America/Chicago:20250220T180000
DTEND;TZID=America/Chicago:20250220T180000
DTSTAMP:20260421T031851
CREATED:20250107T194109Z
LAST-MODIFIED:20250107T194126Z
UID:19204-1740074400-1740074400@acornlibrary.org
SUMMARY:TAG
DESCRIPTION:Does meeting new friends and hanging out with your peers while planning volunteer activities sound interesting to you? The TAG group volunteers at the library and in the community on a monthly basis as opportunities present themselves. Come join the fun and earn service hours! Gr. 6-12. To register\, call the Youth Services Desk at 708-687-3700 or email bconte@acornlibrary.org.
URL:https://acornlibrary.org/calendar/19204/
LOCATION:Acorn Public Library District
CATEGORIES:Events for Kids
ATTACH;FMTTYPE=image/png:https://acornlibrary.org/wp-content/uploads/2020/09/Buttons-teens-TeenVolunteers_0-1525609885.png
END:VEVENT
BEGIN:VEVENT
DTSTART;TZID=America/Chicago:20250222T110000
DTEND;TZID=America/Chicago:20250222T110000
DTSTAMP:20260421T031851
CREATED:20250107T200316Z
LAST-MODIFIED:20250107T200316Z
UID:19209-1740222000-1740222000@acornlibrary.org
SUMMARY:Sensory Playtime-Winter
DESCRIPTION:Monthly themed sensory stations for babies to explore. Ages 0-2. To register\, email jmarquardt@acornlibrary.org or call the Youth Services Desk at 708-687-3700.
URL:https://acornlibrary.org/calendar/sensory-playtime-winter/
LOCATION:Acorn Public Library District
CATEGORIES:Events for Kids
ATTACH;FMTTYPE=image/jpeg:https://acornlibrary.org/wp-content/uploads/2024/11/Fun-and-easy-Sensory-Play-activities-you-can-do-at-ded778a4-99a7-4e3e-8f59-b78533bafcd7.jpg
END:VEVENT
BEGIN:VEVENT
DTSTART;TZID=America/Chicago:20250225T180000
DTEND;TZID=America/Chicago:20250225T180000
DTSTAMP:20260421T031851
CREATED:20250107T212957Z
LAST-MODIFIED:20250107T212957Z
UID:19213-1740506400-1740506400@acornlibrary.org
SUMMARY:Stories and STEAM-Sweet Story of Hot Cocoa
DESCRIPTION:We will listen to a story and then do a fun STEAM project! Ages 7-10. To register\, email jmarquardt@acornlibrary.org or call the Youth Services Desk at 708-687-3700.
URL:https://acornlibrary.org/calendar/stories-and-steam-sweet-story-of-hot-cocoa/
CATEGORIES:Events for Kids
ATTACH;FMTTYPE=image/jpeg:https://acornlibrary.org/wp-content/uploads/2025/01/Hot-cocoa-recipe-1-of-1-2.jpg
END:VEVENT
BEGIN:VEVENT
DTSTART;TZID=America/Chicago:20250227T093000
DTEND;TZID=America/Chicago:20250227T103000
DTSTAMP:20260421T031851
CREATED:20241216T222632Z
LAST-MODIFIED:20241216T222632Z
UID:18978-1740648600-1740652200@acornlibrary.org
SUMMARY:Lapsit and Playtime
DESCRIPTION:Join us for our story time for our youngest patrons!  Ideal for babies and toddlers\, this story time features lots of singing\, rhyming\, reading and playing! The Winter Session runs from Thursday\, Jan. 16-Feb. 27.  To register\, call the Youth Services Desk at 708-687-3700 or email jmarquardt@acornlibrary.org.
URL:https://acornlibrary.org/calendar/lapsit-and-playtime-4/2025-02-27/
CATEGORIES:Events for Kids
ATTACH;FMTTYPE=image/jpeg:https://acornlibrary.org/wp-content/uploads/2020/07/storytimea.jpg
END:VEVENT
BEGIN:VEVENT
DTSTART;TZID=America/Chicago:20250227T110000
DTEND;TZID=America/Chicago:20250227T113000
DTSTAMP:20260421T031851
CREATED:20241216T223021Z
LAST-MODIFIED:20241216T223021Z
UID:18988-1740654000-1740655800@acornlibrary.org
SUMMARY:3-5 Yr Old Story Time
DESCRIPTION:Join us for stories\, songs\, rhymes\, and a craft!  Ideal for children ages 3-5. The Winter Session runs from Thursday\, Jan. 16-Feb. 27.  To register\, call the Youth Services Desk at 708-687-3700 or email jmarquardt@acornlibrary.org.
URL:https://acornlibrary.org/calendar/3-5-yr-old-story-time-15/2025-02-27/
LOCATION:Acorn Public Library District
CATEGORIES:Events for Kids
ATTACH;FMTTYPE=image/jpeg:https://acornlibrary.org/wp-content/uploads/2021/09/storytime-bookworm-1170x583-1.jpeg
END:VEVENT
BEGIN:VEVENT
DTSTART;TZID=America/Chicago:20250301T080000
DTEND;TZID=America/Chicago:20250330T170000
DTSTAMP:20260421T031851
CREATED:20250217T194231Z
LAST-MODIFIED:20250217T194231Z
UID:19628-1740816000-1743354000@acornlibrary.org
SUMMARY:March STEAM Kit-Magical Shrinking Leprechaun Hats
DESCRIPTION:Do this fun experiment and learn the secret to the ‘magic’ behind it!  Kits available starting March 1. To request a kit\, email jmarquardt@acornlibrary.org or call the Youth Services Department at 708-687-3700.
URL:https://acornlibrary.org/calendar/march-steam-kit-magical-shrinking-leprechaun-hats/
CATEGORIES:Events for Kids
ATTACH;FMTTYPE=image/webp:https://acornlibrary.org/wp-content/uploads/2025/02/Green-hat-clipart-WM.webp
END:VEVENT
BEGIN:VEVENT
DTSTART;TZID=America/Chicago:20250301T080000
DTEND;TZID=America/Chicago:20250330T170000
DTSTAMP:20260421T031851
CREATED:20250217T195933Z
LAST-MODIFIED:20250217T195933Z
UID:19633-1740816000-1743354000@acornlibrary.org
SUMMARY:March Craft Kit-Shamrock Puppy
DESCRIPTION:Make an adorable paper craft perfect for St. Patrick’s Day!  Kits available starting March 1.  To request a kit\, email jmarquardt@acornlibrary.org or call the Youth Services Department at 708-687-3700.
URL:https://acornlibrary.org/calendar/march-craft-kit-shamrock-puppy/
CATEGORIES:Events for Kids
ATTACH;FMTTYPE=image/png:https://acornlibrary.org/wp-content/uploads/2025/02/Screen-Shot-2014-02-24-at-8.26.00-AM.png
END:VEVENT
BEGIN:VEVENT
DTSTART;TZID=America/Chicago:20250301T080000
DTEND;TZID=America/Chicago:20250331T170000
DTSTAMP:20260421T031851
CREATED:20250131T151515Z
LAST-MODIFIED:20250220T162737Z
UID:19482-1740816000-1743440400@acornlibrary.org
SUMMARY:Oscars Season Movie Bingo
DESCRIPTION:Stop by the Adult Services desk to receive a bingo card with different movie genres to watch! When you get a bingo\, bring your card back to the Adult Services desk to receive a raffle ticket for a prize!
URL:https://acornlibrary.org/calendar/movie-bingo/
LOCATION:Acorn Public Library District
CATEGORIES:Events for Adults
END:VEVENT
BEGIN:VEVENT
DTSTART;TZID=America/Chicago:20250303T080000
DTEND;TZID=America/Chicago:20250303T170000
DTSTAMP:20260421T031851
CREATED:20250131T161010Z
LAST-MODIFIED:20250131T161010Z
UID:19582-1740988800-1741021200@acornlibrary.org
SUMMARY:Mosaic Shamrock Ornament Craft Kit
DESCRIPTION:We’ll provide you with materials to create your own mosaic shamrock ornament! Supplies are limited. To reserve a kit\, please email kspringer@acornlibrary.org. 
URL:https://acornlibrary.org/calendar/mosaic-shamrock-ornament-craft-kit/
LOCATION:Acorn Public Library District
ORGANIZER;CN="Kortni Springer":MAILTO:kspringer@acornlibrary.org
END:VEVENT
BEGIN:VEVENT
DTSTART;TZID=America/Chicago:20250303T080000
DTEND;TZID=America/Chicago:20250303T170000
DTSTAMP:20260421T031851
CREATED:20250131T161325Z
LAST-MODIFIED:20250131T161325Z
UID:19586-1740988800-1741021200@acornlibrary.org
SUMMARY:Popsicle Stick Leprechaun Craft Kit
DESCRIPTION:We’ll provide you with materials to create your own popsicle stick leprechaun! Supplies are limited. To reserve a kit\, please email kspringer@acornlibrary.org.  
URL:https://acornlibrary.org/calendar/popsicle-stick-leprechaun-craft-kit/
LOCATION:Acorn Public Library District
ORGANIZER;CN="Kortni Springer":MAILTO:kspringer@acornlibrary.org
END:VEVENT
BEGIN:VEVENT
DTSTART;TZID=America/Chicago:20250303T110000
DTEND;TZID=America/Chicago:20250303T120000
DTSTAMP:20260421T031851
CREATED:20250131T151603Z
LAST-MODIFIED:20250131T151603Z
UID:19486-1740999600-1741003200@acornlibrary.org
SUMMARY:Preventing Medicare Fraud Presentation and Bingo
DESCRIPTION:Join Marina Silva\, (AgeOption’s Senior Medicare Patrol Outreach Specialist) as she shares important information on the most common Medicare scams and how to prevent them. This presentation will be followed by a fun Senior Medicare Patrol Bingo! To register\, please call the library at 708-687-3700 or email kspringer@acornlibrary.org. \n 
URL:https://acornlibrary.org/calendar/preventing-medicare-fraud-presentation-and-bingo/
LOCATION:Meeting Room
CATEGORIES:Events for Adults
ORGANIZER;CN="Kortni Springer":MAILTO:kspringer@acornlibrary.org
END:VEVENT
BEGIN:VEVENT
DTSTART;TZID=America/Chicago:20250304T190000
DTEND;TZID=America/Chicago:20250304T200000
DTSTAMP:20260421T031851
CREATED:20250131T151741Z
LAST-MODIFIED:20250131T151741Z
UID:19490-1741114800-1741118400@acornlibrary.org
SUMMARY:Exploring Space with Coralie Adam
DESCRIPTION:Get an inside look at the space industry with Illinois’ own Coralie Adam. She’ll be joined in conversation by Renae Kerrigan\, Curator of Science and Director of the Dome Planetarium at Peoria Riverfront Museum. This event is made possible by Illinois Libraries Present\, a statewide collaboration among public libraries offering premier events. To register\, please call the library at 708-687-3700 or email kspringer@acornlibrary.org.
URL:https://acornlibrary.org/calendar/exploring-space-with-coralie-adam/
LOCATION:Zoom
CATEGORIES:Events for Adults
ORGANIZER;CN="Kortni Springer":MAILTO:kspringer@acornlibrary.org
END:VEVENT
BEGIN:VEVENT
DTSTART;TZID=America/Chicago:20250305T093000
DTEND;TZID=America/Chicago:20250305T103000
DTSTAMP:20260421T031851
CREATED:20250131T151845Z
LAST-MODIFIED:20250131T151845Z
UID:19494-1741167000-1741170600@acornlibrary.org
SUMMARY:Stroller Strides Class
DESCRIPTION:Join us for this fitness class taught by Fit4Mom Palos-Orland Park! Stroller Strides is a 60-minute total-body workout with strength\, cardio\, and core training\, all while engaging the little ones in a stroller! You’ll leave class feeling strong\, empowered\, connected\, and energized—no matter your stage of motherhood. Each baby or toddler should arrive in a stroller or carrier for this class. To register\, please call the library at 708-687-3700 or email kspringer@acornlibrary.org. 
URL:https://acornlibrary.org/calendar/stroller-strides-class/
LOCATION:Meeting Room
CATEGORIES:Events for Adults
ORGANIZER;CN="Kortni Springer":MAILTO:kspringer@acornlibrary.org
END:VEVENT
BEGIN:VEVENT
DTSTART;TZID=America/Chicago:20250305T190000
DTEND;TZID=America/Chicago:20250305T200000
DTSTAMP:20260421T031851
CREATED:20211117T200211Z
LAST-MODIFIED:20240122T155706Z
UID:10241-1741201200-1741204800@acornlibrary.org
SUMMARY:Genealogy Drop-In
DESCRIPTION:Need assistance with your genealogy research? Our Genealogy Group can help answer your questions on the first Wednesday of every month! For more information about SSGHS\, visit www.ssghs.org
URL:https://acornlibrary.org/calendar/genealogy-drop-in/2025-03-05/
LOCATION:Conference Room
CATEGORIES:Events for Adults
ORGANIZER;CN="Kortni Springer":MAILTO:kspringer@acornlibrary.org
END:VEVENT
BEGIN:VEVENT
DTSTART;TZID=America/Chicago:20250306T180000
DTEND;TZID=America/Chicago:20250306T180000
DTSTAMP:20260421T031851
CREATED:20250217T215137Z
LAST-MODIFIED:20250217T215137Z
UID:19638-1741284000-1741284000@acornlibrary.org
SUMMARY:Diversiteen Book/Movie Club-"Lemonade Mouth"
DESCRIPTION:Read the book and then come watch the movie and have a brief discussion!  Ages 11-17.  To register email bconte@acornlibrary.org.
URL:https://acornlibrary.org/calendar/diversiteen-book-movie-club-lemonade-mouth/
CATEGORIES:Events for Kids
ATTACH;FMTTYPE=image/jpeg:https://acornlibrary.org/wp-content/uploads/2025/02/lemonade-mouth.jpg
END:VEVENT
BEGIN:VEVENT
DTSTART;TZID=America/Chicago:20250306T190000
DTEND;TZID=America/Chicago:20250306T203000
DTSTAMP:20260421T031851
CREATED:20240309T174006Z
LAST-MODIFIED:20240309T174006Z
UID:15766-1741287600-1741293000@acornlibrary.org
SUMMARY:Barcodes Nonfiction Book Discussion Group
DESCRIPTION:The Barcodes Nonfiction Book Discussion Group will hold their monthly meeting in the Library’s Meeting Room. If you are interested in attending this meeting\, please contact the Adult Services Department.
URL:https://acornlibrary.org/calendar/barcodes-nonfiction-book-discussion-group-3/2025-03-06/
LOCATION:Conference Room
CATEGORIES:Events for Adults
ORGANIZER;CN="Kortni Springer":MAILTO:kspringer@acornlibrary.org
END:VEVENT
BEGIN:VEVENT
DTSTART;TZID=America/Chicago:20250310T170000
DTEND;TZID=America/Chicago:20250310T180000
DTSTAMP:20260421T031851
CREATED:20250217T221852Z
LAST-MODIFIED:20250227T203137Z
UID:19703-1741626000-1741629600@acornlibrary.org
SUMMARY:Ramadan Story Time
DESCRIPTION:Join us to celebrate and learn more about Ramadan at our special story time!  Amani Rashid will present a program with stories\, songs\, a craft and fun!  For children of all ages.  To register\, please email jmarquardt@acornlibrary.org or call the Youth Services Department at 708-687-3700.
URL:https://acornlibrary.org/calendar/ramadan-story-time/
LOCATION:Acorn Public Library District
CATEGORIES:Events for Kids
ATTACH;FMTTYPE=image/jpeg:https://acornlibrary.org/wp-content/uploads/2025/02/Ramadan-Storytime.jpg
END:VEVENT
BEGIN:VEVENT
DTSTART;TZID=America/Chicago:20250310T180000
DTEND;TZID=America/Chicago:20250310T190000
DTSTAMP:20260421T031851
CREATED:20250131T152022Z
LAST-MODIFIED:20250131T152022Z
UID:19498-1741629600-1741633200@acornlibrary.org
SUMMARY:Italian Conversation Group
DESCRIPTION:Join us for a casual Italian conversation group led by Oak Forest resident Franco Lafiandra. All skill levels are welcome. To register\, please call the library at 708-687-3700 or email kspringer@acornlibrary.org.
URL:https://acornlibrary.org/calendar/italian-conversation-group-26/
LOCATION:Conference Room
CATEGORIES:Events for Adults
ORGANIZER;CN="Kortni Springer":MAILTO:kspringer@acornlibrary.org
END:VEVENT
BEGIN:VEVENT
DTSTART;TZID=America/Chicago:20250311T180000
DTEND;TZID=America/Chicago:20250311T180000
DTSTAMP:20260421T031851
CREATED:20250217T222449Z
LAST-MODIFIED:20250217T222449Z
UID:19709-1741716000-1741716000@acornlibrary.org
SUMMARY:Family Story Time
DESCRIPTION:Join us for a night of stories\, songs and a craft.  This program is intended for children with caregivers. Ages 8 and younger.  To register\, call the Youth Services Department at 708-687-3700 or email jmarquardt@acornlibrary.org.
URL:https://acornlibrary.org/calendar/family-story-time-15/
LOCATION:Acorn Public Library District
CATEGORIES:Events for Kids
ATTACH;FMTTYPE=image/jpeg:https://acornlibrary.org/wp-content/uploads/2024/01/family-story-time.jpg
END:VEVENT
BEGIN:VEVENT
DTSTART;TZID=America/Chicago:20250312T180000
DTEND;TZID=America/Chicago:20250312T190000
DTSTAMP:20260421T031851
CREATED:20250131T152110Z
LAST-MODIFIED:20250131T152110Z
UID:19502-1741802400-1741806000@acornlibrary.org
SUMMARY:Ugly Prey: An Innocent Woman and the Death Sentence That Scandalized Jazz Age Chicago
DESCRIPTION:This presentation tells the true story of Sabella Nitti\, an innocent woman sentenced to hang in Chicago in 1923 for the murder of her missing husband. There was no motive\, no evidence\, or  positive identification on the decayed corpse found in a Berwyn sewer. But prosecutors wanted an easy win. Sympathetic juries routinely acquitted lovely women who killed their husbands or boyfriends. In Sabella Nitti\, prosecutors saw easy\, ugly prey. She was foreign\, didn’t speak English\, and newspaper reporters considered her hideous. Prosecutors quickly convinced a jury she was guilty. Only 95 days separated Sabella from the gallows. Could anyone save her? As Sabella faced her execution\, a team of Italian American attorneys stepped in to fight for an appeal. The team included young lawyer Helen Cirese who realized a makeover might just save her client. To register\, please call the library at 708-687-3700 or email kspringer@acornlibrary.org.
URL:https://acornlibrary.org/calendar/ugly-prey-an-innocent-woman-and-the-death-sentence-that-scandalized-jazz-age-chicago/
LOCATION:Meeting Room
CATEGORIES:Events for Adults
ORGANIZER;CN="Kortni Springer":MAILTO:kspringer@acornlibrary.org
END:VEVENT
BEGIN:VEVENT
DTSTART;TZID=America/Chicago:20250312T190000
DTEND;TZID=America/Chicago:20250312T200000
DTSTAMP:20260421T031851
CREATED:20230928T173845Z
LAST-MODIFIED:20230928T173845Z
UID:13567-1741806000-1741809600@acornlibrary.org
SUMMARY:Library Board of Trustees Meeting
DESCRIPTION:
URL:https://acornlibrary.org/calendar/library-board-of-trustees-meeting-8/2025-03-12/
ATTACH;FMTTYPE=image/png:https://acornlibrary.org/wp-content/uploads/2023/03/logo.png
ORGANIZER;CN="Dorothy Koll":MAILTO:dkoll@acornlibrary.org
END:VEVENT
BEGIN:VEVENT
DTSTART;TZID=America/Chicago:20250314T153000
DTEND;TZID=America/Chicago:20250314T153000
DTSTAMP:20260421T031851
CREATED:20250217T223231Z
LAST-MODIFIED:20250217T223231Z
UID:19713-1741966200-1741966200@acornlibrary.org
SUMMARY:Little STEAM Lab-Over the Rainbow
DESCRIPTION:Join us for hands on sensory play and activities. Ages 2-5.  To register\, call the Youth Services Department at 708-687-3700 or email jmarquardt@acornlibrary.org.
URL:https://acornlibrary.org/calendar/little-steam-lab-over-the-rainbow/
LOCATION:Acorn Public Library District
CATEGORIES:Events for Kids
ATTACH;FMTTYPE=image/jpeg:https://acornlibrary.org/wp-content/uploads/2022/02/46813-CA-Rainbow-Science-SNO-1200x630-1.jpg
END:VEVENT
BEGIN:VEVENT
DTSTART;TZID=America/Chicago:20250315T110000
DTEND;TZID=America/Chicago:20250315T110000
DTSTAMP:20260421T031851
CREATED:20250221T170905Z
LAST-MODIFIED:20250221T170923Z
UID:19791-1742036400-1742036400@acornlibrary.org
SUMMARY:Slime Time-Leprechaun Slime
DESCRIPTION:Each month we will make a new version of slime!  Ages 7-13. To register\, email jmarquardt@acornlibrary.org or call the Youth Services Department at 708-687-3700.
URL:https://acornlibrary.org/calendar/slime-time-leprechaun-slime-2/
LOCATION:Acorn Public Library District
CATEGORIES:Events for Kids
ATTACH;FMTTYPE=image/avif:https://acornlibrary.org/wp-content/uploads/2025/02/st-patrick-s-day-slime-horizontal-1-1551471476.avif
END:VEVENT
END:VCALENDAR