BEGIN:VCALENDAR
VERSION:2.0
PRODID:-//Acorn - ECPv6.15.20//NONSGML v1.0//EN
CALSCALE:GREGORIAN
METHOD:PUBLISH
X-ORIGINAL-URL:https://acornlibrary.org
X-WR-CALDESC:Events for Acorn
REFRESH-INTERVAL;VALUE=DURATION:PT1H
X-Robots-Tag:noindex
X-PUBLISHED-TTL:PT1H
BEGIN:VTIMEZONE
TZID:America/Chicago
BEGIN:DAYLIGHT
TZOFFSETFROM:-0600
TZOFFSETTO:-0500
TZNAME:CDT
DTSTART:20240310T080000
END:DAYLIGHT
BEGIN:STANDARD
TZOFFSETFROM:-0500
TZOFFSETTO:-0600
TZNAME:CST
DTSTART:20241103T070000
END:STANDARD
BEGIN:DAYLIGHT
TZOFFSETFROM:-0600
TZOFFSETTO:-0500
TZNAME:CDT
DTSTART:20250309T080000
END:DAYLIGHT
BEGIN:STANDARD
TZOFFSETFROM:-0500
TZOFFSETTO:-0600
TZNAME:CST
DTSTART:20251102T070000
END:STANDARD
BEGIN:DAYLIGHT
TZOFFSETFROM:-0600
TZOFFSETTO:-0500
TZNAME:CDT
DTSTART:20260308T080000
END:DAYLIGHT
BEGIN:STANDARD
TZOFFSETFROM:-0500
TZOFFSETTO:-0600
TZNAME:CST
DTSTART:20261101T070000
END:STANDARD
END:VTIMEZONE
BEGIN:VEVENT
DTSTART;TZID=America/Chicago:20251028T103000
DTEND;TZID=America/Chicago:20251028T110000
DTSTAMP:20260421T031924
CREATED:20250820T183504Z
LAST-MODIFIED:20250820T183504Z
UID:22884-1761647400-1761649200@acornlibrary.org
SUMMARY:Music and Movement Story Time
DESCRIPTION:Join us for stories\, songs\, dancing\, bubbles and games! Ages 0-5. To register\, email jmarquardt@acornlibrary.org or call the Youth Services Desk at 708-687-3700.
URL:https://acornlibrary.org/calendar/music-and-movement-story-time-2/2025-10-28/
CATEGORIES:Events for Kids
ATTACH;FMTTYPE=image/jpeg:https://acornlibrary.org/wp-content/uploads/2025/05/facebook_event_645833508908590.jpg
END:VEVENT
BEGIN:VEVENT
DTSTART;TZID=America/Chicago:20251021T103000
DTEND;TZID=America/Chicago:20251021T110000
DTSTAMP:20260421T031924
CREATED:20250820T183504Z
LAST-MODIFIED:20250820T183504Z
UID:22883-1761042600-1761044400@acornlibrary.org
SUMMARY:Music and Movement Story Time
DESCRIPTION:Join us for stories\, songs\, dancing\, bubbles and games! Ages 0-5. To register\, email jmarquardt@acornlibrary.org or call the Youth Services Desk at 708-687-3700.
URL:https://acornlibrary.org/calendar/music-and-movement-story-time-2/2025-10-21/
CATEGORIES:Events for Kids
ATTACH;FMTTYPE=image/jpeg:https://acornlibrary.org/wp-content/uploads/2025/05/facebook_event_645833508908590.jpg
END:VEVENT
BEGIN:VEVENT
DTSTART;TZID=America/Chicago:20251014T103000
DTEND;TZID=America/Chicago:20251014T110000
DTSTAMP:20260421T031924
CREATED:20250820T183504Z
LAST-MODIFIED:20250820T183504Z
UID:22882-1760437800-1760439600@acornlibrary.org
SUMMARY:Music and Movement Story Time
DESCRIPTION:Join us for stories\, songs\, dancing\, bubbles and games! Ages 0-5. To register\, email jmarquardt@acornlibrary.org or call the Youth Services Desk at 708-687-3700.
URL:https://acornlibrary.org/calendar/music-and-movement-story-time-2/2025-10-14/
CATEGORIES:Events for Kids
ATTACH;FMTTYPE=image/jpeg:https://acornlibrary.org/wp-content/uploads/2025/05/facebook_event_645833508908590.jpg
END:VEVENT
BEGIN:VEVENT
DTSTART;TZID=America/Chicago:20251007T103000
DTEND;TZID=America/Chicago:20251007T110000
DTSTAMP:20260421T031924
CREATED:20250820T183504Z
LAST-MODIFIED:20250820T183504Z
UID:22881-1759833000-1759834800@acornlibrary.org
SUMMARY:Music and Movement Story Time
DESCRIPTION:Join us for stories\, songs\, dancing\, bubbles and games! Ages 0-5. To register\, email jmarquardt@acornlibrary.org or call the Youth Services Desk at 708-687-3700.
URL:https://acornlibrary.org/calendar/music-and-movement-story-time-2/2025-10-07/
CATEGORIES:Events for Kids
ATTACH;FMTTYPE=image/jpeg:https://acornlibrary.org/wp-content/uploads/2025/05/facebook_event_645833508908590.jpg
END:VEVENT
BEGIN:VEVENT
DTSTART;TZID=America/Chicago:20250930T103000
DTEND;TZID=America/Chicago:20250930T110000
DTSTAMP:20260421T031924
CREATED:20250820T183504Z
LAST-MODIFIED:20250820T183504Z
UID:22880-1759228200-1759230000@acornlibrary.org
SUMMARY:Music and Movement Story Time
DESCRIPTION:Join us for stories\, songs\, dancing\, bubbles and games! Ages 0-5. To register\, email jmarquardt@acornlibrary.org or call the Youth Services Desk at 708-687-3700.
URL:https://acornlibrary.org/calendar/music-and-movement-story-time-2/2025-09-30/
CATEGORIES:Events for Kids
ATTACH;FMTTYPE=image/jpeg:https://acornlibrary.org/wp-content/uploads/2025/05/facebook_event_645833508908590.jpg
END:VEVENT
BEGIN:VEVENT
DTSTART;TZID=America/Chicago:20250923T103000
DTEND;TZID=America/Chicago:20250923T110000
DTSTAMP:20260421T031924
CREATED:20250820T183504Z
LAST-MODIFIED:20250820T183504Z
UID:22878-1758623400-1758625200@acornlibrary.org
SUMMARY:Music and Movement Story Time
DESCRIPTION:Join us for stories\, songs\, dancing\, bubbles and games! Ages 0-5. To register\, email jmarquardt@acornlibrary.org or call the Youth Services Desk at 708-687-3700.
URL:https://acornlibrary.org/calendar/music-and-movement-story-time-2/2025-09-23/
CATEGORIES:Events for Kids
ATTACH;FMTTYPE=image/jpeg:https://acornlibrary.org/wp-content/uploads/2025/05/facebook_event_645833508908590.jpg
END:VEVENT
BEGIN:VEVENT
DTSTART;TZID=America/Chicago:20250916T103000
DTEND;TZID=America/Chicago:20250916T110000
DTSTAMP:20260421T031924
CREATED:20250820T183504Z
LAST-MODIFIED:20250820T183504Z
UID:22875-1758018600-1758020400@acornlibrary.org
SUMMARY:Music and Movement Story Time
DESCRIPTION:Join us for stories\, songs\, dancing\, bubbles and games! Ages 0-5. To register\, email jmarquardt@acornlibrary.org or call the Youth Services Desk at 708-687-3700.
URL:https://acornlibrary.org/calendar/music-and-movement-story-time-2/2025-09-16/
CATEGORIES:Events for Kids
ATTACH;FMTTYPE=image/jpeg:https://acornlibrary.org/wp-content/uploads/2025/05/facebook_event_645833508908590.jpg
END:VEVENT
END:VCALENDAR